BEGIN:VCALENDAR
VERSION:2.0
PRODID:-//wp-events-plugin.com//7.0.4//EN
TZID:America/North_Dakota/Center
X-WR-TIMEZONE:America/North_Dakota/Center
BEGIN:VEVENT
UID:409@rcc-austin.org
DTSTART;TZID=America/North_Dakota/Center:20241017T000000
DTEND;TZID=America/North_Dakota/Center:20291017T000000
DTSTAMP:20241018T033444Z
URL:https://www.rcc-austin.org/events/2024%e5%b9%b410%e6%9c%88%e5%90%95%e5
 %ad%90%e5%b3%b0%e7%89%a7%e5%b8%ab%e5%b7%ae%e5%82%b3%e7%89%b9%e6%9c%83
SUMMARY:2024年10月吕子峰牧師差傳特會 -  - 17 10 月 24 00:00
DESCRIPTION:第一堂信息：禾場的情況 （馬太福音9:35-38；羅
 馬書9:2-3；約翰福音4:35）\n\n[embed]https://rcc-austin.org/wp-cont
 ent/uploads/sunday_school/10112024night.mp4[/embed]\n\n第二堂信息：
 乘上宣教浪潮-從開荒到合作 （腓立比書1:3-5）\n\n[embed]ht
 tps://rcc-austin.org/wp-content/uploads/sunday_school/10122024morning.mp4[
 /embed]\n\n第三堂信息：工人的裝備 （路加福音18:18-30；9:2
 3-24）\n\n[embed]https://rcc-austin.org/wp-content/uploads/sunday_school/
 10122024night.mp4[/embed]\n\n&nbsp\;\n\n第四堂信息：乘上宣教浪
 潮-從散居移民到跨文化宣教 （使徒行傳11:19-21；16:11-34
 ）\n\n[embed]https://rcc-austin.org/wp-content/uploads/sunday_school/S101
 32024.mp4[/embed]\n\n第五堂信息：主人的差遣（以賽亞書5:8-2
 3；6:1-8；路加福音10:1-2）\n\n[embed]https://rcc-austin.org/wp-cont
 ent/uploads/sermons/10132024.mp4[/embed]\n\n&nbsp\;\n\n&nbsp\;
CATEGORIES:特別活動
END:VEVENT
BEGIN:VTIMEZONE
TZID:America/North_Dakota/Center
X-LIC-LOCATION:America/North_Dakota/Center
BEGIN:DAYLIGHT
DTSTART:20240310T030000
TZOFFSETFROM:-0600
TZOFFSETTO:-0500
TZNAME:CDT
END:DAYLIGHT
BEGIN:STANDARD
DTSTART:20241103T010000
TZOFFSETFROM:-0500
TZOFFSETTO:-0600
TZNAME:CST
END:STANDARD
BEGIN:DAYLIGHT
DTSTART:20250309T030000
TZOFFSETFROM:-0600
TZOFFSETTO:-0500
TZNAME:CDT
END:DAYLIGHT
BEGIN:STANDARD
DTSTART:20251102T010000
TZOFFSETFROM:-0500
TZOFFSETTO:-0600
TZNAME:CST
END:STANDARD
BEGIN:DAYLIGHT
DTSTART:20260308T030000
TZOFFSETFROM:-0600
TZOFFSETTO:-0500
TZNAME:CDT
END:DAYLIGHT
BEGIN:STANDARD
DTSTART:20261101T010000
TZOFFSETFROM:-0500
TZOFFSETTO:-0600
TZNAME:CST
END:STANDARD
BEGIN:DAYLIGHT
DTSTART:20270314T030000
TZOFFSETFROM:-0600
TZOFFSETTO:-0500
TZNAME:CDT
END:DAYLIGHT
BEGIN:STANDARD
DTSTART:20271107T010000
TZOFFSETFROM:-0500
TZOFFSETTO:-0600
TZNAME:CST
END:STANDARD
BEGIN:DAYLIGHT
DTSTART:20280312T030000
TZOFFSETFROM:-0600
TZOFFSETTO:-0500
TZNAME:CDT
END:DAYLIGHT
BEGIN:STANDARD
DTSTART:20281105T010000
TZOFFSETFROM:-0500
TZOFFSETTO:-0600
TZNAME:CST
END:STANDARD
BEGIN:DAYLIGHT
DTSTART:20290311T030000
TZOFFSETFROM:-0600
TZOFFSETTO:-0500
TZNAME:CDT
END:DAYLIGHT
END:VTIMEZONE
END:VCALENDAR