BEGIN:VCALENDAR
VERSION:2.0
PRODID:-//wp-events-plugin.com//7.0.4//EN
TZID:America/North_Dakota/Center
X-WR-TIMEZONE:America/North_Dakota/Center
BEGIN:VEVENT
UID:406@rcc-austin.org
DTSTART;TZID=America/North_Dakota/Center;VALUE=DATE:20240201
DTEND;TZID=America/North_Dakota/Center;VALUE=DATE:20270301
DTSTAMP:20250228T011933Z
URL:https://www.rcc-austin.org/events/2024%e5%b9%b43%e6%9c%88%e5%91%a8%e5%
 ae%87%e5%ae%9a%e7%89%a7%e5%b8%ab%e5%9f%b9%e9%9d%88%e6%9c%83
SUMMARY:2024年3月周宇定牧師培靈會 - Rock Chinese Church of Austin
  奧斯汀磐石教會 - 1 2 月 24 00:00
DESCRIPTION:永遠愛我們的主: 為我們禱告的主 (路加福音 22:3
 1-34)\n\n永遠愛我們的主: 要我們順服的主 (腓立比書 2:6-13
 )\n\n永遠愛我們的主: 賜我們盼望的主 (彼得前書 1:1-9)\n\n
 永遠愛我們的主: 揀選了我們的主 (羅馬書 9:6-24)\n\n永遠
 愛我們的主: 配得我們敬拜的主 (腓立比書 2:6-11)
CATEGORIES:特別活動
LOCATION:Rock Chinese Church of Austin 奧斯汀磐石教會\, 701 Blueline
  Dr.\, Leander\, TX\, 78641\, 美国
X-APPLE-STRUCTURED-LOCATION;VALUE=URI;X-ADDRESS=701 Blueline Dr.\, Leander\
 , TX\, 78641\, 美国;X-APPLE-RADIUS=100;X-TITLE=Rock Chinese Church of Au
 stin 奧斯汀磐石教會:geo:0,0
END:VEVENT
BEGIN:VTIMEZONE
TZID:America/North_Dakota/Center
X-LIC-LOCATION:America/North_Dakota/Center
BEGIN:STANDARD
DTSTART:20231105T010000
TZOFFSETFROM:-0500
TZOFFSETTO:-0600
TZNAME:CST
END:STANDARD
BEGIN:DAYLIGHT
DTSTART:20240310T030000
TZOFFSETFROM:-0600
TZOFFSETTO:-0500
TZNAME:CDT
END:DAYLIGHT
BEGIN:STANDARD
DTSTART:20241103T010000
TZOFFSETFROM:-0500
TZOFFSETTO:-0600
TZNAME:CST
END:STANDARD
BEGIN:DAYLIGHT
DTSTART:20250309T030000
TZOFFSETFROM:-0600
TZOFFSETTO:-0500
TZNAME:CDT
END:DAYLIGHT
BEGIN:STANDARD
DTSTART:20251102T010000
TZOFFSETFROM:-0500
TZOFFSETTO:-0600
TZNAME:CST
END:STANDARD
BEGIN:DAYLIGHT
DTSTART:20260308T030000
TZOFFSETFROM:-0600
TZOFFSETTO:-0500
TZNAME:CDT
END:DAYLIGHT
BEGIN:STANDARD
DTSTART:20261101T010000
TZOFFSETFROM:-0500
TZOFFSETTO:-0600
TZNAME:CST
END:STANDARD
END:VTIMEZONE
END:VCALENDAR