BEGIN:VCALENDAR
VERSION:2.0
PRODID:-//wp-events-plugin.com//7.0.4//EN
TZID:America/North_Dakota/Center
X-WR-TIMEZONE:America/North_Dakota/Center
BEGIN:VEVENT
UID:410@rcc-austin.org
DTSTART;TZID=America/North_Dakota/Center;VALUE=DATE:20250227
DTEND;TZID=America/North_Dakota/Center;VALUE=DATE:20290301
DTSTAMP:20250228T012646Z
URL:https://www.rcc-austin.org/events/2025%e5%b9%b42%e6%9c%88%e9%a6%ae%e5%
 81%89%e7%89%a7%e5%b8%ab%e4%bd%88%e9%81%93%e6%9c%83
SUMMARY:2025年2月馮偉牧師佈道會 -  - 27 2 月 25 00:00
DESCRIPTION:平安何處尋？ – 逆境與平安 (約 16：33； 诗篇 4
 6； 腓 4：6-7)\n\n平安何處尋？ – 大家和小家-家庭與事
 奉的關係 (书 24:14-15)\n\n平安何處尋？ – 十架與平安 (約
  16:33； 赛 53:5； 罗 5:7-8； 弗 2:16)\n\n平安何處尋？ – 認
 識真神-三位一体的奥秘\n\n平安何處尋？ – 信心與平安 
 (約 16:33； 路 7:50)
CATEGORIES:特別活動
END:VEVENT
BEGIN:VTIMEZONE
TZID:America/North_Dakota/Center
X-LIC-LOCATION:America/North_Dakota/Center
BEGIN:STANDARD
DTSTART:20241103T010000
TZOFFSETFROM:-0500
TZOFFSETTO:-0600
TZNAME:CST
END:STANDARD
BEGIN:DAYLIGHT
DTSTART:20250309T030000
TZOFFSETFROM:-0600
TZOFFSETTO:-0500
TZNAME:CDT
END:DAYLIGHT
BEGIN:STANDARD
DTSTART:20251102T010000
TZOFFSETFROM:-0500
TZOFFSETTO:-0600
TZNAME:CST
END:STANDARD
BEGIN:DAYLIGHT
DTSTART:20260308T030000
TZOFFSETFROM:-0600
TZOFFSETTO:-0500
TZNAME:CDT
END:DAYLIGHT
BEGIN:STANDARD
DTSTART:20261101T010000
TZOFFSETFROM:-0500
TZOFFSETTO:-0600
TZNAME:CST
END:STANDARD
BEGIN:DAYLIGHT
DTSTART:20270314T030000
TZOFFSETFROM:-0600
TZOFFSETTO:-0500
TZNAME:CDT
END:DAYLIGHT
BEGIN:STANDARD
DTSTART:20271107T010000
TZOFFSETFROM:-0500
TZOFFSETTO:-0600
TZNAME:CST
END:STANDARD
BEGIN:DAYLIGHT
DTSTART:20280312T030000
TZOFFSETFROM:-0600
TZOFFSETTO:-0500
TZNAME:CDT
END:DAYLIGHT
BEGIN:STANDARD
DTSTART:20281105T010000
TZOFFSETFROM:-0500
TZOFFSETTO:-0600
TZNAME:CST
END:STANDARD
END:VTIMEZONE
END:VCALENDAR