BEGIN:VCALENDAR
VERSION:2.0
PRODID:-//wp-events-plugin.com//7.0.4//EN
TZID:America/North_Dakota/Center
X-WR-TIMEZONE:America/North_Dakota/Center
BEGIN:VEVENT
UID:411@rcc-austin.org
DTSTART;TZID=America/North_Dakota/Center:20260322T000000
DTEND;TZID=America/North_Dakota/Center:20261231T000000
DTSTAMP:20260324T021737Z
URL:https://www.rcc-austin.org/events/2026%e5%b9%b4%e6%95%99%e4%bc%9a%e4%b
 a%8b%e5%b7%a5%e5%8f%8a%e7%89%b9%e5%88%ab%e6%b4%bb%e5%8a%a8%e6%97%b6%e9%97%
 b4%e8%a1%a8
SUMMARY:2026年教会事工及特别活动时间表 -  - 22 3 月 26 00:00
DESCRIPTION:[embeddoc url="https://www.rcc-austin.org/wp-content/uploads/20
 26/03/2026年教会事工及特别活动时间表.pdf" viewer="browser"]
END:VEVENT
BEGIN:VTIMEZONE
TZID:America/North_Dakota/Center
X-LIC-LOCATION:America/North_Dakota/Center
BEGIN:DAYLIGHT
DTSTART:20260308T030000
TZOFFSETFROM:-0600
TZOFFSETTO:-0500
TZNAME:CDT
END:DAYLIGHT
BEGIN:STANDARD
DTSTART:20261101T010000
TZOFFSETFROM:-0500
TZOFFSETTO:-0600
TZNAME:CST
END:STANDARD
END:VTIMEZONE
END:VCALENDAR