BEGIN:VCALENDAR
VERSION:2.0
PRODID:-//wp-events-plugin.com//7.0.4//EN
TZID:America/North_Dakota/Center
X-WR-TIMEZONE:America/North_Dakota/Center
BEGIN:VEVENT
UID:92@rcc-austin.org
DTSTART;TZID=America/North_Dakota/Center:20190907T154500
DTEND;TZID=America/North_Dakota/Center:20200501T170000
DTSTAMP:20200510T185520Z
URL:https://www.rcc-austin.org/events/awana-2
SUMMARY:AWANA 爱主童军 - 奧斯汀磐石教會 - 7 9 月 19 15:45
DESCRIPTION:本周8/18/2019 開始接受報名(报名表格下载），同
 时有服事心意的青少年（LIT) 也需要报名以及培训。  09/
 07 将第一次活动开始。 AWANA俱樂部面向3至12歲的兒童及
 青少年，根據年齡和年級的不同分以下三個班：\n\n 	Cubbi
 es (Age 3 – 4)\n 	Sparks (K – Grade 2)\n 	T&amp\;T (Grade 3 – 6)\n\n
 Awana俱樂部的活動時間是每週日3：45-5：00 PM\n\nCubbies班的
 活動內容包括：\n\n 	繪畫手工活動；\n 	哥哥姐姐帶領Pupp
 et show\, 唱歌跳舞，講故事，做遊戲，homework checking；\n\nS
 parks和T&amp\;T班的活動內容包括：\n\n 	遊戲時間；\n 	研讀
 時間；\n 	小組時間。\n\nAwana出自新約聖經提摩太後書2:15
 ，由英語經文「Approved Workmen Are Not Ashamed」每個單詞的首
 個英文字母組合而成，中文翻譯出來的意思就是在神面
 前「得蒙喜悅作無愧的工人」。目標是幫助兒童認識聖
 經真理、學習團隊精神、溝通技巧和建立自信。\n\nRCCA AW
 ANA clubbers meet every Sunday afternoon from 3:40PM -5PM. Every meeting c
 onsists of three major components: music worship\, group story\, handbook 
 time and games. All children from Pre-K to Grad 5 are welcome.\n\nWe welco
 me youth of 7 Grade and above to help out with the AWANA club. You will se
 rve as club leaders and play diffident roles. LITs are required to attend 
 at least one training session. To attend the training\, simply show up at 
 the church and come to the second floor\, the big room for youth. Click he
 re to download the LIT application form.
CATEGORIES:特別活動
LOCATION:奧斯汀磐石教會\, 10511 Salt Mill Hollow\, Austin\, TX\, 787
 50\, 美国
GEO:30.453600;-97.805100
X-APPLE-STRUCTURED-LOCATION;VALUE=URI;X-ADDRESS=10511 Salt Mill Hollow\, Au
 stin\, TX\, 78750\, 美国;X-APPLE-RADIUS=100;X-TITLE=奧斯汀磐石教
 會:geo:30.453600,-97.805100
END:VEVENT
BEGIN:VTIMEZONE
TZID:America/North_Dakota/Center
X-LIC-LOCATION:America/North_Dakota/Center
BEGIN:DAYLIGHT
DTSTART:20190310T030000
TZOFFSETFROM:-0600
TZOFFSETTO:-0500
TZNAME:CDT
END:DAYLIGHT
BEGIN:STANDARD
DTSTART:20191103T010000
TZOFFSETFROM:-0500
TZOFFSETTO:-0600
TZNAME:CST
END:STANDARD
BEGIN:DAYLIGHT
DTSTART:20200308T030000
TZOFFSETFROM:-0600
TZOFFSETTO:-0500
TZNAME:CDT
END:DAYLIGHT
END:VTIMEZONE
END:VCALENDAR